BEGIN:VCALENDAR
VERSION:2.0
PRODID:-//Kreisjugendring Ravensburg - ECPv6.15.20//NONSGML v1.0//EN
CALSCALE:GREGORIAN
METHOD:PUBLISH
X-WR-CALNAME:Kreisjugendring Ravensburg
X-ORIGINAL-URL:https://kreisjugendring-rv.de
X-WR-CALDESC:Veranstaltungen für Kreisjugendring Ravensburg
REFRESH-INTERVAL;VALUE=DURATION:PT1H
X-Robots-Tag:noindex
X-PUBLISHED-TTL:PT1H
BEGIN:VTIMEZONE
TZID:Europe/Berlin
BEGIN:DAYLIGHT
TZOFFSETFROM:+0100
TZOFFSETTO:+0200
TZNAME:CEST
DTSTART:20230326T010000
END:DAYLIGHT
BEGIN:STANDARD
TZOFFSETFROM:+0200
TZOFFSETTO:+0100
TZNAME:CET
DTSTART:20231029T010000
END:STANDARD
BEGIN:DAYLIGHT
TZOFFSETFROM:+0100
TZOFFSETTO:+0200
TZNAME:CEST
DTSTART:20240331T010000
END:DAYLIGHT
BEGIN:STANDARD
TZOFFSETFROM:+0200
TZOFFSETTO:+0100
TZNAME:CET
DTSTART:20241027T010000
END:STANDARD
BEGIN:DAYLIGHT
TZOFFSETFROM:+0100
TZOFFSETTO:+0200
TZNAME:CEST
DTSTART:20250330T010000
END:DAYLIGHT
BEGIN:STANDARD
TZOFFSETFROM:+0200
TZOFFSETTO:+0100
TZNAME:CET
DTSTART:20251026T010000
END:STANDARD
END:VTIMEZONE
BEGIN:VEVENT
DTSTART;TZID=Europe/Berlin:20240502T183000
DTEND;TZID=Europe/Berlin:20240502T210000
DTSTAMP:20260420T062532
CREATED:20240403T115856Z
LAST-MODIFIED:20240404T145119Z
UID:3930-1714674600-1714683600@kreisjugendring-rv.de
SUMMARY:Money\, Money
DESCRIPTION:Ort:\nonline \nTermin:\nDonnerstag\, 02. Mai\, 18:30 – 21:00 Uhr \nKosten:\nKostenlos \nReferentin:\nMichaela Lendrates(KJR RV) \nInhalte:\nFördermöglicheiten für die Kinder- und Jugendarbeit im Landkreis. \nBeim Kreisjugendring Ravensburg e.V. gibt es seit 2023 neue\, erweiterte Zuschussrichtlinien für euer Angebot. Wir geben einen kurzen Einblick in die Möglichkeiten & Antragsverfahren\, mit Ausblick auf weitere Möglichkeiten der Bezuschussung für eure Aktionen & Projekte. \nJuleica-Punkte:\n3 \nAnmeldung bis:\n02.05.2024
URL:https://kreisjugendring-rv.de/veranstaltungen/money-money/
LOCATION:digital
ATTACH;FMTTYPE=image/jpeg:https://kreisjugendring-rv.de/wp-content/uploads/2023/06/money-g0c2322bd1_1280-e1687522932724.jpg
ORGANIZER;CN="Kreisjugendring Ravensburg e. V.":MAILTO:info@kreisjugendring-rv.de
END:VEVENT
END:VCALENDAR