BEGIN:VCALENDAR
VERSION:2.0
PRODID:-//Kreisjugendring Ravensburg - ECPv6.15.20//NONSGML v1.0//EN
CALSCALE:GREGORIAN
METHOD:PUBLISH
X-WR-CALNAME:Kreisjugendring Ravensburg
X-ORIGINAL-URL:https://kreisjugendring-rv.de
X-WR-CALDESC:Veranstaltungen für Kreisjugendring Ravensburg
REFRESH-INTERVAL;VALUE=DURATION:PT1H
X-Robots-Tag:noindex
X-PUBLISHED-TTL:PT1H
BEGIN:VTIMEZONE
TZID:Europe/Berlin
BEGIN:DAYLIGHT
TZOFFSETFROM:+0100
TZOFFSETTO:+0200
TZNAME:CEST
DTSTART:20230326T010000
END:DAYLIGHT
BEGIN:STANDARD
TZOFFSETFROM:+0200
TZOFFSETTO:+0100
TZNAME:CET
DTSTART:20231029T010000
END:STANDARD
BEGIN:DAYLIGHT
TZOFFSETFROM:+0100
TZOFFSETTO:+0200
TZNAME:CEST
DTSTART:20240331T010000
END:DAYLIGHT
BEGIN:STANDARD
TZOFFSETFROM:+0200
TZOFFSETTO:+0100
TZNAME:CET
DTSTART:20241027T010000
END:STANDARD
BEGIN:DAYLIGHT
TZOFFSETFROM:+0100
TZOFFSETTO:+0200
TZNAME:CEST
DTSTART:20250330T010000
END:DAYLIGHT
BEGIN:STANDARD
TZOFFSETFROM:+0200
TZOFFSETTO:+0100
TZNAME:CET
DTSTART:20251026T010000
END:STANDARD
END:VTIMEZONE
BEGIN:VEVENT
DTSTART;TZID=Europe/Berlin:20240422T173000
DTEND;TZID=Europe/Berlin:20240422T181500
DTSTAMP:20260420T074612
CREATED:20240326T125246Z
LAST-MODIFIED:20240419T092950Z
UID:3894-1713807000-1713809700@kreisjugendring-rv.de
SUMMARY:Geld sammeln für euer Projekt mit BUXandSOX
DESCRIPTION:Ort:\nonline \nTermin:\nMontag\, 22. April\, 17:30 – 18:15 Uhr \nKosten:\nKostenlos \nReferentin:\nSonja Beutel von BUXandSOX \nInhalte:\nIhr plant eine Klassenfahrt\, einen Abschlussball\, ein Zirkusprojekt oder eine Rom-Wallfahrt?\nIhr braucht neue Instrumente oder wünscht euch ein neues Klettergerüst? \nWir zeigen unterschiedliche Möglichkeiten auf\, wie Schulklassen\, Kindergärten\, Vereine\, Ministranten… Geld für ihre Projekte sammeln können. Im Besonderen gehen wir auf das Thema Produkt-Fundraising mit BUXandSOX ein. Bei dieser Art des Fundraisings sammeln die Mitglieder einer Gruppe/Klasse Bestellungen für Produktboxen. Mit jeder bestellten Box füllt sich die Spendenkasse der Gruppe um weitere 4 €. Die Boxen werden in Behinderten- und Sozialwerkstätten in Weingarten\, Altshausen\, Bad Saulgau und Bad Buchau für die Fundraising-Aktionen liebevoll verpackt. In Schweden und den USA gehört es zum üblichen „Straßenbild“\, dass Geld für Projekte und Unternehmungen durch den Verkauf von Donuts etc. gesammelt wird. In Deutschland ist Fundraising noch nicht so bekannt \nMit BUXandSOX haben seit 2015 bereits über 3000 Vereine\, Kindergärten und Schulklassen Spenden für ihre Projekte gesammelt – mit viel Spaß\, wenig Aufwand\, ohne Risiko und vor allem mit tollen Ergebnissen. \nJuleica-Punkte:\n4 \nAnmeldung bis:\n15.04.2024
URL:https://kreisjugendring-rv.de/veranstaltungen/geld-sammeln-fuer-euer-projekt/
LOCATION:digital
ATTACH;FMTTYPE=image/jpeg:https://kreisjugendring-rv.de/wp-content/uploads/2024/03/SponsoringBoxandsox.jpg
ORGANIZER;CN="Kreisjugendring Ravensburg e. V.":MAILTO:info@kreisjugendring-rv.de
END:VEVENT
BEGIN:VEVENT
DTSTART;TZID=Europe/Berlin:20240423T090000
DTEND;TZID=Europe/Berlin:20240423T160000
DTSTAMP:20260420T074612
CREATED:20240403T091106Z
LAST-MODIFIED:20240404T144935Z
UID:3896-1713862800-1713888000@kreisjugendring-rv.de
SUMMARY:Digitale Jugend- und Sozialarbeit
DESCRIPTION:Ort:Geschäftsstelle des KJR RV\, Gartenstraße 107\, Bauteil D in 88212 Ravensburg \nTermin:\nDienstag\, 23. April\, 09:00 – ca. 16:00 Uhr \nKosten:\nkostenlos \nReferent: Marten Duck\, Projektbüro Digitale Jugend- und Sozialarbeit Baden-Württemberg \nInhalte: \nDie Welt der Jugendlichen\, mit denen Sie arbeiten\, ist eine Mischung aus digitalen und analogen Erfahrungen. Dies wird durch zahlreiche Studien bestätigt und ist auch in der Interaktion mit den Jugendlichen offensichtlich. Aber wie navigiert man als Fachkraft in der Kinder- und Jugendarbeit und Jugendsozialarbeit durch diese Landschaft\, insbesondere wenn man bisher wenig Kontakt mit Online-Formaten hatte? Welche Optionen stehen zur Verfügung? Was kann effektiv online durchgeführt werden und was sollte besser im persönlichen Kontakt behandelt werden? Und wo beginnt man? \nIn dieser Fortbildung werden wir uns diesen Fragen widmen. Wir bieten grundlegende Kenntnisse\, schaffen Raum für Diskussionen und Selbstreflexion und ermöglichen gleichzeitig praktische Übungen. Unser Ziel ist es\, Ihnen bei den ersten Schritten in der digitalen Jugendarbeit zu helfen und mögliche Ängste zu überwinden. Diese Fortbildung ist speziell auf die Anforderungen von Fachkräften in der Kinder- und Jugendarbeit und Jugendsozialarbeit zugeschnitten. \nJuleica-Punkte: 8 \nAnmeldung bis:\n16.04.2024
URL:https://kreisjugendring-rv.de/veranstaltungen/digitale-jugend-und-sozialarbeit/
LOCATION:Geschäftsstelle des Kreisjugendrings\, Gartenstraße 107\, Bauteil D\, Ravensburg\, 88212
ATTACH;FMTTYPE=image/png:https://kreisjugendring-rv.de/wp-content/uploads/2024/04/PlakatDigitaleJA.png
ORGANIZER;CN="Kreisjugendring Ravensburg e. V.":MAILTO:info@kreisjugendring-rv.de
END:VEVENT
BEGIN:VEVENT
DTSTART;TZID=Europe/Berlin:20240425T190000
DTEND;TZID=Europe/Berlin:20240425T213000
DTSTAMP:20260420T074612
CREATED:20240115T155938Z
LAST-MODIFIED:20240404T145210Z
UID:3696-1714071600-1714080600@kreisjugendring-rv.de
SUMMARY:Low Alk – Max Fun\, Cocktailseminar
DESCRIPTION:Ort:\nAula GHS Niederwangen\, Schulstraße 3\, 88239 Wangen im Allgäu \nTermin:\nDonnerstag\, 25. April\, 19:00 – ca. 21:30 Uhr \nKosten:\nKostenlos \nLeitung:\nIn Kooperation mit der Initiative Low Alc – Max Fun der SG Niederwangen \nInhalte:\nEinführung in den Cocktailanhänger\, Einführung in das Projekt\, alkoholfreie Cocktails mixen unter professioneller Anleitung \nJuleica-Punkte:\n4 \nAnmeldung bis:\n18.04.2024
URL:https://kreisjugendring-rv.de/veranstaltungen/low-alk-max-fun-cocktailseminar/
LOCATION:Aula GHS Niederwangen\, Schulstraße 3\, Wangen im Allgäu\, 88239
ATTACH;FMTTYPE=image/png:https://kreisjugendring-rv.de/wp-content/uploads/2023/11/LowAlk_Banner.png
ORGANIZER;CN="Kreisjugendring Ravensburg e. V.":MAILTO:info@kreisjugendring-rv.de
END:VEVENT
END:VCALENDAR